BEGIN:VCALENDAR
VERSION:2.0
PRODID:-//ISSA - Sacramento Valley Chapter - ECPv6.15.20//NONSGML v1.0//EN
CALSCALE:GREGORIAN
METHOD:PUBLISH
X-WR-CALNAME:ISSA - Sacramento Valley Chapter
X-ORIGINAL-URL:https://sacramento.issa.org
X-WR-CALDESC:Events for ISSA - Sacramento Valley Chapter
REFRESH-INTERVAL;VALUE=DURATION:PT1H
X-Robots-Tag:noindex
X-PUBLISHED-TTL:PT1H
BEGIN:VTIMEZONE
TZID:America/Los_Angeles
BEGIN:DAYLIGHT
TZOFFSETFROM:-0800
TZOFFSETTO:-0700
TZNAME:PDT
DTSTART:20240310T100000
END:DAYLIGHT
BEGIN:STANDARD
TZOFFSETFROM:-0700
TZOFFSETTO:-0800
TZNAME:PST
DTSTART:20241103T090000
END:STANDARD
BEGIN:DAYLIGHT
TZOFFSETFROM:-0800
TZOFFSETTO:-0700
TZNAME:PDT
DTSTART:20250309T100000
END:DAYLIGHT
BEGIN:STANDARD
TZOFFSETFROM:-0700
TZOFFSETTO:-0800
TZNAME:PST
DTSTART:20251102T090000
END:STANDARD
BEGIN:DAYLIGHT
TZOFFSETFROM:-0800
TZOFFSETTO:-0700
TZNAME:PDT
DTSTART:20260308T100000
END:DAYLIGHT
BEGIN:STANDARD
TZOFFSETFROM:-0700
TZOFFSETTO:-0800
TZNAME:PST
DTSTART:20261101T090000
END:STANDARD
END:VTIMEZONE
BEGIN:VEVENT
DTSTART;TZID=America/Los_Angeles:20250117T113000
DTEND;TZID=America/Los_Angeles:20250117T130000
DTSTAMP:20260420T052431
CREATED:20250109T182811Z
LAST-MODIFIED:20250123T021320Z
UID:284-1737113400-1737118800@sacramento.issa.org
SUMMARY:ISSA Sacramento Valley Chapter Meeting - 01/17/2025 - Building a Defensible Cybersecurity Budget
DESCRIPTION:Building a Defensible Cybersecurity Budget\n\nSecurity leaders often find that their budget requests must compete against other operational budget requests and arguably more productive uses of cash. Unless security leaders know how to communicate their budget needs according to the Money People’s business objectives\, they may find themselves underfunded and underprepared to satisfy their organization’s security needs. This discussion will introduce key concepts that security leaders need to master to effectively produce a defensible cybersecurity budget to the Money People.\n\n \n\nRobert D. Brown III BIO: Senior Director of Cyber Resilience\nRob Brown brings 25+ years of experience serving organizations from startups to government agencies and Fortune 100 companies as a senior strategic planner and decision science advisor across industry verticals such as telecommunication\, electronics manufacturing\, commercial real estate\, oil & gas production\, pharmaceuticals & biotech\, logistics\, aluminum manufacturing\, and homeland security. Not only is he the author of Business Case Analysis with R – Simulation Tutorials to Support Complex Business Decisions (2018)\, he also contributed a chapter to How to Measure Anything in Cybersecurity Risk\, 2nd Ed (Hubbard\, Seiersen. 2023) and co-edited The Metric Manifesto: Confronting Security with Data (Seiersen. 2022). Rob holds a BS in Mechanical Engineering from the Georgia institute of Technology. Robert joined Resilience in 2022 with Richard Seiersen to help SMBs understand cyber risk quantification and elevate the practice of cyber security to a strategic level.\n\nDefensible Cyber Budget \nResilience_Rapid Risk Interviews_111323 \nRansomware Security Controls Assessment Tool v9.xlsm2.82 MBJanuary 22\, 2025Downloads: 405Download
URL:https://sacramento.issa.org/event/issa-sacramento-valley-chapter-meeting-01-17-2025-building-a-defensible-cybersecurity-budget/
LOCATION:Capsity\, 3808 Broadway\, Sacramento CA\, Capsity\, 3808 Broadway\, Sacramento\, CA\, United States
CATEGORIES:ISSA Sacramento chapter meetings
END:VEVENT
END:VCALENDAR