BEGIN:VCALENDAR
VERSION:2.0
PRODID:-//ISSA - Sacramento Valley Chapter - ECPv6.15.20//NONSGML v1.0//EN
CALSCALE:GREGORIAN
METHOD:PUBLISH
X-WR-CALNAME:ISSA - Sacramento Valley Chapter
X-ORIGINAL-URL:https://sacramento.issa.org
X-WR-CALDESC:Events for ISSA - Sacramento Valley Chapter
REFRESH-INTERVAL;VALUE=DURATION:PT1H
X-Robots-Tag:noindex
X-PUBLISHED-TTL:PT1H
BEGIN:VTIMEZONE
TZID:America/Los_Angeles
BEGIN:DAYLIGHT
TZOFFSETFROM:-0800
TZOFFSETTO:-0700
TZNAME:PDT
DTSTART:20230312T100000
END:DAYLIGHT
BEGIN:STANDARD
TZOFFSETFROM:-0700
TZOFFSETTO:-0800
TZNAME:PST
DTSTART:20231105T090000
END:STANDARD
BEGIN:DAYLIGHT
TZOFFSETFROM:-0800
TZOFFSETTO:-0700
TZNAME:PDT
DTSTART:20240310T100000
END:DAYLIGHT
BEGIN:STANDARD
TZOFFSETFROM:-0700
TZOFFSETTO:-0800
TZNAME:PST
DTSTART:20241103T090000
END:STANDARD
BEGIN:DAYLIGHT
TZOFFSETFROM:-0800
TZOFFSETTO:-0700
TZNAME:PDT
DTSTART:20250309T100000
END:DAYLIGHT
BEGIN:STANDARD
TZOFFSETFROM:-0700
TZOFFSETTO:-0800
TZNAME:PST
DTSTART:20251102T090000
END:STANDARD
END:VTIMEZONE
BEGIN:VEVENT
DTSTART;TZID=America/Los_Angeles:20240419T113000
DTEND;TZID=America/Los_Angeles:20240419T130000
DTSTAMP:20260420T183206
CREATED:20240410T214340Z
LAST-MODIFIED:20250327T063028Z
UID:210-1713526200-1713531600@sacramento.issa.org
SUMMARY:ISSA Sacramento Valley Chapter Meeting - Friday\, 04/19/2024 11:30a-1:00p "Community Disaster Preparedness"
DESCRIPTION:Speaker: Dean Hipwell\, President\, Sacramento Region Citizen Corps Council (https://srccc.org) and Past President of ISSA Sacramento  \nTopic: Community Disaster Preparedness \nSynopsis:\nPart of cybersecurity is to prepare your organization for disasters. Part of disaster preparedness is to protect yourself\, your family and your home from harm. In between your home and organization is your community. This presentation reviews key steps to consider when preparing your home and community for disasters. \nTopics:\n* Prepare yourself for disaster (based on recommendations from the Sacramento County Office of Emergency Services)\n* Prepare your community for disaster (a review of volunteer emergency response organizations sanctioned by FEMA or other agencies of the federal government) \nThere will also be handouts available on “Scam Awareness” from the Federal Trade Commission\, so you can share those materials with your friends and family. \n(Presentation slides here.)  \nSpeaker Bio: Dean Hipwell is the current president of the Sacramento Region Citizen Corps Council\, the local chapter of the USA Freedom Corps\, which is coordinated nationally by the U.S. Department of Homeland Security. After retiring as a Captain in the USAF\, Hipwell worked for many years as an information security consultant for several California State agencies\, including the FTB\, JoJ\, DGS\, DMV\, and LDC. He also served as the Chief Information Security Officer for the Nevada Medicaid Management Information System and the California Dental Medicaid Management Information System. He was an officer in the Sacramento Valley ISSA for many years\, eventually serving as President of that organization.  \nMeeting Details: This will be a hybrid meeting (both in-person and on-line). You may attend remotely via Zoom (click here to attend the webcast) or attend in person at Capsity\, 3810 Broadway\, Sacramento CA (Google Maps and Directions).  \nEither way\, please register for the meeting below.  Choose No Meal if you are attending remotely\, or Normal Meal or Vegetarian if you are attending in person (so we can order enough food for lunch). \nYou don’t have to be a member of ISSA to attend our meetings (but we encourage you to join us!). Please share information about this meeting with your friends and colleagues who have an interest in information security.
URL:https://sacramento.issa.org/event/issa-sacramento-valley-chapter-meeting-04-19-2024-1130a-100p/
LOCATION:Capsity\, 3808 Broadway\, Sacramento CA\, Capsity\, 3808 Broadway\, Sacramento\, CA\, United States
CATEGORIES:ISSA Sacramento chapter meetings
END:VEVENT
END:VCALENDAR