BEGIN:VCALENDAR
VERSION:2.0
PRODID:-//ISSA - Sacramento Valley Chapter - ECPv6.15.20//NONSGML v1.0//EN
CALSCALE:GREGORIAN
METHOD:PUBLISH
X-ORIGINAL-URL:https://sacramento.issa.org
X-WR-CALDESC:Events for ISSA - Sacramento Valley Chapter
REFRESH-INTERVAL;VALUE=DURATION:PT1H
X-Robots-Tag:noindex
X-PUBLISHED-TTL:PT1H
BEGIN:VTIMEZONE
TZID:America/Los_Angeles
BEGIN:DAYLIGHT
TZOFFSETFROM:-0800
TZOFFSETTO:-0700
TZNAME:PDT
DTSTART:20230312T100000
END:DAYLIGHT
BEGIN:STANDARD
TZOFFSETFROM:-0700
TZOFFSETTO:-0800
TZNAME:PST
DTSTART:20231105T090000
END:STANDARD
BEGIN:DAYLIGHT
TZOFFSETFROM:-0800
TZOFFSETTO:-0700
TZNAME:PDT
DTSTART:20240310T100000
END:DAYLIGHT
BEGIN:STANDARD
TZOFFSETFROM:-0700
TZOFFSETTO:-0800
TZNAME:PST
DTSTART:20241103T090000
END:STANDARD
BEGIN:DAYLIGHT
TZOFFSETFROM:-0800
TZOFFSETTO:-0700
TZNAME:PDT
DTSTART:20250309T100000
END:DAYLIGHT
BEGIN:STANDARD
TZOFFSETFROM:-0700
TZOFFSETTO:-0800
TZNAME:PST
DTSTART:20251102T090000
END:STANDARD
END:VTIMEZONE
BEGIN:VEVENT
DTSTART;TZID=America/Los_Angeles:20240719T113000
DTEND;TZID=America/Los_Angeles:20240719T130000
DTSTAMP:20260420T142120
CREATED:20240708T182600Z
LAST-MODIFIED:20250327T062839Z
UID:249-1721388600-1721394000@sacramento.issa.org
SUMMARY:ISSA Sacramento Valley Chapter Meeting – 07/19/2024 – Threat Modeling
DESCRIPTION:Zoom link: https://sandiego.zoom.us/j/92137747452?pwd=Hey6k9Vwz0hmQt7V5qyhkEKFAOaIGK.1 \nSpeaker: Nikunj Nagalia\, VP of Solutions Architecture\, ThreatModeler Software\, Inc.\n \nTopic: Integrating Threat Modeling into the Software Development Life Cycle: How do you shift left? \nSynopsis: Discuss the importance of threat modeling and its integration into the Software Development Life Cycle (SDLC). \nSpeaker Bio: Nikunj Nagalia is a seasoned professional with over a decade of experience in the computer and network security industry. Currently\, as VP of Solutions Architecture at ThreatModeler Software\, Inc.\, he leads innovative security solutions and excels in team leadership and technological expertise. Nikunj’s career at ThreatModeler includes roles as Director of Professional Services\, Product Manager\, and Solutions Engineer\, where he managed complex projects\, shaped product strategies\, and significantly contributed to network security. Before ThreatModeler\, he was a Consultant in Corporate Strategy and Development at News America Marketing. His academic background includes an MBA from Babson College\, where he also demonstrated leadership as a Graduate Assistant and in the Consulting Field Experience. \nMeeting Details: This will be a hybrid meeting (both in-person and on-line). You may attend remotely via Zoom (see link at top of this page) or attend in person at Capsity\, 3810 Broadway\, Sacramento CA (Google Maps and Directions). \nEither way\, please register for the meeting below.  Choose No Meal if you are attending remotely\, or Normal Meal or Vegetarian if you are attending in person (so we can order enough food for lunch). \nYou don’t have to be a member of ISSA to attend our meetings (but we encourage you to join us!). Please share information about this meeting with your friends and colleagues who have an interest in information security.
URL:https://sacramento.issa.org/event/issa-sacramento-valley-chapter-meeting-07-19-2024-threat-modeling/
LOCATION:Capsity\, 3808 Broadway\, Sacramento CA\, Capsity\, 3808 Broadway\, Sacramento\, CA\, United States
CATEGORIES:ISSA Sacramento chapter meetings
END:VEVENT
END:VCALENDAR