BEGIN:VCALENDAR
VERSION:2.0
PRODID:-//ISSA - Sacramento Valley Chapter - ECPv6.15.20//NONSGML v1.0//EN
CALSCALE:GREGORIAN
METHOD:PUBLISH
X-ORIGINAL-URL:https://sacramento.issa.org
X-WR-CALDESC:Events for ISSA - Sacramento Valley Chapter
REFRESH-INTERVAL;VALUE=DURATION:PT1H
X-Robots-Tag:noindex
X-PUBLISHED-TTL:PT1H
BEGIN:VTIMEZONE
TZID:America/Los_Angeles
BEGIN:DAYLIGHT
TZOFFSETFROM:-0800
TZOFFSETTO:-0700
TZNAME:PDT
DTSTART:20230312T100000
END:DAYLIGHT
BEGIN:STANDARD
TZOFFSETFROM:-0700
TZOFFSETTO:-0800
TZNAME:PST
DTSTART:20231105T090000
END:STANDARD
BEGIN:DAYLIGHT
TZOFFSETFROM:-0800
TZOFFSETTO:-0700
TZNAME:PDT
DTSTART:20240310T100000
END:DAYLIGHT
BEGIN:STANDARD
TZOFFSETFROM:-0700
TZOFFSETTO:-0800
TZNAME:PST
DTSTART:20241103T090000
END:STANDARD
BEGIN:DAYLIGHT
TZOFFSETFROM:-0800
TZOFFSETTO:-0700
TZNAME:PDT
DTSTART:20250309T100000
END:DAYLIGHT
BEGIN:STANDARD
TZOFFSETFROM:-0700
TZOFFSETTO:-0800
TZNAME:PST
DTSTART:20251102T090000
END:STANDARD
END:VTIMEZONE
BEGIN:VEVENT
DTSTART;TZID=America/Los_Angeles:20241122T113000
DTEND;TZID=America/Los_Angeles:20241122T130000
DTSTAMP:20260420T092018
CREATED:20241120T043636Z
LAST-MODIFIED:20250327T062956Z
UID:273-1732275000-1732280400@sacramento.issa.org
SUMMARY:ISSA Sacramento Valley Chapter Chapter Meeting - 11/22/2024 - Online Fraud
DESCRIPTION:Online-only meeting. Zoom link: https://us06web.zoom.us/j/89687370483?pwd=uLV0QyV3FIogTsmf0WCtH7j1mwbRmn.1 \nSpeaker: Dmitry Bezrukov\n \nTopic: Online Fraud – A recent personal experience \nSynopsis: This will be a lively discussion about the current state of online fraud based on Dmitry’s recent personal experience. He will review general stats\, review specific case study\, brainstorm what needs to be improved and what is the role of security industry in online fraud. \nSpeaker Bio: Dmitry has 17 years of experience in IT and cybersecurity. Many various experiences within IT security industry include NGFW management\, SOC management protecting SaaS applications used by many top 200 Fortune companies and currently working in “Resilience” cybersecurity insurance and risk management company. \nMeeting Details: This will be an online meeting only. Connect remotely via Zoom. \nPlease register for the meeting below.  \nYou don’t have to be a member of ISSA to attend our meetings (but we encourage you to join us!). Please share information about this meeting with your friends and colleagues who have an interest in information security.
URL:https://sacramento.issa.org/event/issa-sacramento-valley-chapter-chapter-meeting-11-22-2024-online-fraud/
LOCATION:CA
CATEGORIES:ISSA Sacramento chapter meetings
END:VEVENT
END:VCALENDAR