BEGIN:VCALENDAR
VERSION:2.0
PRODID:-//ISSA - Sacramento Valley Chapter - ECPv6.15.20//NONSGML v1.0//EN
CALSCALE:GREGORIAN
METHOD:PUBLISH
X-WR-CALNAME:ISSA - Sacramento Valley Chapter
X-ORIGINAL-URL:https://sacramento.issa.org
X-WR-CALDESC:Events for ISSA - Sacramento Valley Chapter
REFRESH-INTERVAL;VALUE=DURATION:PT1H
X-Robots-Tag:noindex
X-PUBLISHED-TTL:PT1H
BEGIN:VTIMEZONE
TZID:America/Los_Angeles
BEGIN:DAYLIGHT
TZOFFSETFROM:-0800
TZOFFSETTO:-0700
TZNAME:PDT
DTSTART:20220313T100000
END:DAYLIGHT
BEGIN:STANDARD
TZOFFSETFROM:-0700
TZOFFSETTO:-0800
TZNAME:PST
DTSTART:20221106T090000
END:STANDARD
BEGIN:DAYLIGHT
TZOFFSETFROM:-0800
TZOFFSETTO:-0700
TZNAME:PDT
DTSTART:20230312T100000
END:DAYLIGHT
BEGIN:STANDARD
TZOFFSETFROM:-0700
TZOFFSETTO:-0800
TZNAME:PST
DTSTART:20231105T090000
END:STANDARD
BEGIN:DAYLIGHT
TZOFFSETFROM:-0800
TZOFFSETTO:-0700
TZNAME:PDT
DTSTART:20240310T100000
END:DAYLIGHT
BEGIN:STANDARD
TZOFFSETFROM:-0700
TZOFFSETTO:-0800
TZNAME:PST
DTSTART:20241103T090000
END:STANDARD
END:VTIMEZONE
BEGIN:VEVENT
DTSTART;TZID=America/Los_Angeles:20231208T110000
DTEND;TZID=America/Los_Angeles:20231208T133000
DTSTAMP:20260419T191143
CREATED:20231025T225119Z
LAST-MODIFIED:20231025T225313Z
UID:160-1702033200-1702042200@sacramento.issa.org
SUMMARY:ISSA Chapter Holiday Party
DESCRIPTION:This month\, we’ll have our chapter meeting earlier in the month (to avoid crowding the holidays). Lunch is free for members. Members may bring a guest\, but guests are requested to pay to help defray the cost of lunch. Member sign up deadline is December 5th at Midnight. Guest sign up deadline is December 4th. Guest price: To be determined \nWho: ISSA Sacramento Valley Chapter members\nWhat: ISSA Holiday Party Luncheon BANQUET\nWhen: Fri\, Dec 8\, 2023 11:30 am – 1:30 pm\nWhere: Buca di Beppo Sacramento\n1249 Howe Avenue\nSacramento\, CA 95825\nWhy: Celebrate the Holiday Season and connect with friends \nMenu:\nSalads (2)\n-Served with Fresh-Baked Bread\n-Mixed Green\n-Apple Gorgonzola\nPastas (2)\n-Spaghetti with Meat Sauce\n-Penne San Remo\nEntrées (1)\n-Chicken Parmigiana\n-Eggplant Parmigiana (vegetarian option)\nDesserts (1)\n-Cheesecake\nBeverages\n-Unlimited Soft Drinks\, Coffee & Tea \nMore details to follow…
URL:https://sacramento.issa.org/event/issa-chapter-holiday-party/
LOCATION:CA
END:VEVENT
BEGIN:VEVENT
DTSTART;TZID=America/Los_Angeles:20231117T113000
DTEND;TZID=America/Los_Angeles:20231117T130000
DTSTAMP:20260419T191143
CREATED:20231025T224742Z
LAST-MODIFIED:20231025T224903Z
UID:155-1700220600-1700226000@sacramento.issa.org
SUMMARY:DNS Security - Hubert Ralph Bonnell\, CISSP\, CCSE – Security Engineer\, Check Point Software Technologies\, Inc.
DESCRIPTION:ISSA Sacramento Valley Chapter Meeting – 11/17/2023 11:30a-13:00p \nSynopsis: DNS attacks are becoming much more prevalent lately. This presentation is intended to introduce the DNS protocol and showcase the current attack surface of the DNS infrastructure. DNS was designed in the early 1980s and carries a number of security risks with its current implementation. Unfortunately it is difficult to secure a protocol not designed for security. At the end of the presentation\, mitigation strategies and best practices are discussed in an open forum. \nWe will cover the following topics: \n– Overview of the DNS protocol \n– Current DNS security landscape \n– DNS security risks mitigation \nSpeaker Bio: H. Ralph Bonnell is a Pre-Sales Security Engineer at Check Point Software with over 25 years of experience in the cyber security industry. Starting out as a support engineer doing Check Point Software firewall support in the 1990s\, Ralph worked for cyber security partners and resellers for a couple decades working with hundreds of vendors before joining Check Point. \nRalph spent over 15 years teaching cyber security classes as well as performing professional services for a variety of vendors. Ralph co-authored several books on Check Point Software\, Juniper NetScreen\, Sygate\, and SonicWall. Contact information and social media links are available at ralphbonnell.com. \nMeeting Details:\nThis will be a hybrid meeting (both in-person and on-line). You may attend remotely via Zoom or attend in person at Capsity\, 3808 Broadway\, Sacramento CA (Google Maps and Directions). Either way\, please register for the meeting below (the registration link form will be made available several weeks prior to the meeting). Select No Meal if you are attending remotely\, or Normal Meal or Vegetarian if you are attending in person (so we can order enough food for lunch). All registered members and guests will receive the Zoom meeting link via email\, by the morning of the meeting. \nYou don’t have to be a member of ISSA to attend our meetings (but we encourage you to join us!). Please share information about this meeting with your friends and colleagues who have an interest in information security. \n 
URL:https://sacramento.issa.org/event/dns-security-hubert-ralph-bonnell-cissp-ccse-security-engineer-check-point-software-technologies-inc/
LOCATION:Capsity\, 3808 Broadway\, Sacramento CA\, Capsity\, 3808 Broadway\, Sacramento\, CA\, United States
END:VEVENT
BEGIN:VEVENT
DTSTART;TZID=America/Los_Angeles:20231020T113000
DTEND;TZID=America/Los_Angeles:20231020T130000
DTSTAMP:20260419T191143
CREATED:20230909T011401Z
LAST-MODIFIED:20230914T233108Z
UID:119-1697801400-1697806800@sacramento.issa.org
SUMMARY:ISSA Sacramento Valley Chapter Meeting - 10/20/2023 11:30a-13:00p
DESCRIPTION:Speaker: Daly Barnett\, Staff Technologist\, Electronic Frontier Foundation\nTopic: TBA \nSynopsis: TBA \nSpeaker Bio: TBA \nMeeting Details:\nThis will be a hybrid meeting (both in-person and on-line). You may attend remotely via Zoom or attend in person at Capsity\, 3808 Broadway\, Sacramento CA (Google Maps and Directions). Either way\, please register for the meeting below (the registration link form will be made available several weeks prior to the meeting). Select No Meal if you are attending remotely\, or Normal Meal or Vegetarian if you are attending in person (so we can order enough food for lunch). All registered members and guests will receive the Zoom meeting link via email\, by the morning of the meeting. \nYou don’t have to be a member of ISSA to attend our meetings (but we encourage you to join us!). Please share information about this meeting with your friends and colleagues who have an interest in information security.
URL:https://sacramento.issa.org/event/issa-sacramento-valley-chapter-meeting-10-20-2023-1130a-1300p/
LOCATION:Capsity\, 3808 Broadway\, Sacramento CA\, Capsity\, 3808 Broadway\, Sacramento\, CA\, United States
CATEGORIES:ISSA Sacramento chapter meetings
ATTACH;FMTTYPE=image/png:https://sacramento.issa.org/wp-content/uploads/2023/09/eff-logo.png
ORGANIZER;CN="Monty B.":MAILTO:calendar@issa-sac.com
END:VEVENT
BEGIN:VEVENT
DTSTART;TZID=America/Los_Angeles:20230915T113000
DTEND;TZID=America/Los_Angeles:20230915T130000
DTSTAMP:20260419T191143
CREATED:20230719T221948Z
LAST-MODIFIED:20230721T192930Z
UID:66-1694777400-1694782800@sacramento.issa.org
SUMMARY:ISSA Sacramento Valley Chapter Meeting - 9/15/2023 11:30a-13:00p
DESCRIPTION:Speaker: Tolgay Kizilelma\, ISACA Sacramento Chapter\nTopic: Security Assurance – Building a Culture of Compliance \nSynopsis: Security culture is essential for achieving a culture of compliance. IT leaders are tasked with linking security assurance with organizational values. However\, cyber compliance has traditionally been approached as a bottom-up problem and addressed with disjointed ideas that mistake effort as value. The session will cover challenges and opportunities around cybersecurity compliance through cultural changes that align with organizational vision\, goals\, and values \nSpeaker Bio: Tolgay is a business-driven IT leader and trusted business partner with close to 30 years of experience covering different industries. He is currently serving as the Information Security Officer for Sutter Health. He previously served as the Chief Information Security Officer at UC Merced and UC ANR. He is an advocate of lifelong learning and teaches graduate business analytics courses at Saint Mary’s College of California. He is an accredited ISACA trainer and serves as the Academic Relations Director for ISACA Sacramento Chapter. His current research interests are cybersecurity\, privacy\, digital transformation\, business analytics\, and educational IT programs. He has various industry certifications\, a B.S. degree in computer engineering\, an MBA\, and Ph.D. focusing on information security\, quality\, and patient safety. \nMeeting Details:\nThis will be a hybrid meeting (both in-person and on-line). You may attend remotely via Zoom or attend in person at Capsity\, 3808 Broadway\, Sacramento CA (Google Maps and Directions). Either way\, please register for the meeting below (the registration link form will be made available several weeks prior to the meeting). Select No Meal if you are attending remotely\, or Normal Meal or Vegetarian if you are attending in person (so we can order enough food for lunch). All registered members and guests will receive the Zoom meeting link via email\, by the morning of the meeting. \nYou don’t have to be a member of ISSA to attend our meetings (but we encourage you to join us!). Please share information about this meeting with your friends and colleagues who have an interest in information security. \n\n\n\n\nDates:\n\nFriday\, September 15\, 2023 – 11:30am to 1:00pm
URL:https://sacramento.issa.org/event/issa-sacramento-valley-chapter-meeting-9-15-2023-1130a-1300p/
LOCATION:Capsity\, 3808 Broadway\, Sacramento CA\, Capsity\, 3808 Broadway\, Sacramento\, CA\, United States
CATEGORIES:ISSA Sacramento chapter meetings
ATTACH;FMTTYPE=image/jpeg:https://sacramento.issa.org/wp-content/uploads/2023/07/compliance.jpg
ORGANIZER;CN="Monty B.":MAILTO:calendar@issa-sac.com
END:VEVENT
BEGIN:VEVENT
DTSTART;TZID=America/Los_Angeles:20230721T113000
DTEND;TZID=America/Los_Angeles:20230721T130000
DTSTAMP:20260419T191143
CREATED:20230719T202202Z
LAST-MODIFIED:20230719T221034Z
UID:55-1689939000-1689944400@sacramento.issa.org
SUMMARY:ISSA Sacramento Valley Chapter Meeting - 7/21/2023 11:30a-13:00p
DESCRIPTION:Speaker: Dr. Roger R. Schell\, President\, Aesec Corporation\nTopic: History of Software Security and the Marketplace\nSynopsis: When was the need for security in software first identified? What were the major advances and when did they occur? What were the marketplace factors that drove software security improvements? Drawing on his over 50 years working in the field\, beginning at the dawn of cybersecurity as a recognized field of study\, Roger’s talk will cover:\n* When & how software security emerged\n* Origin and evolution of the marketplace for security in software\n* Major groups involved\n* Current state of security market factors \nSpeaker Bio: Roger R. Schell\, Ph.D.\, is internationally recognized for originating several key modern security design and evaluation techniques\, and he holds patents in cryptography\, authentication and trusted workstation. For more than decade he has been co-founder and President of Aesec Corporation\, a start-up company providing verifiably secure platforms. \nPreviously\, Dr. Schell was co-founder and vice president for Gemini Computers\, Inc.\, where he directed development of their highly secure (what NSA called “Class A1”) commercial product\, the Gemini Multiprocessing Secure Operating System (GEMSOS). He was also the founding Deputy Director of NSA’s National Computer Security Center. He has been referred to as the “father” of the Trusted Computer System Evaluation Criteria (the “Orange Book”). Dr. Schell is a retired USAF Colonel. \nHe received a Ph.D. in Computer Science from the MIT\, an M.S.E.E. from Washington State\, and a B.S.E.E. from Montana State. The NIST and NSA have recognized Dr. Schell with the National Computer System Security Award. In 2012 he was inducted into the inaugural class of the National Cyber Security Hall of Fame. \nMeeting Details:\nThis will be a hybrid meeting (both in-person and on-line). You may attend remotely via Zoom or attend in person at Capsity\, 3808 Broadway\, Sacramento CA (Google Maps and Directions). Either way\, please register for the meeting below (the registration link form will be made available several weeks prior to the meeting). Select No Meal if you are attending remotely\, or Normal Meal or Vegetarian if you are attending in person (so we can order enough food for lunch). All registered members and guests will receive the Zoom meeting link via email\, by the morning of the meeting. \nYou don’t have to be a member of ISSA to attend our meetings (but we encourage you to join us!). Please share information about this meeting with your friends and colleagues who have an interest in information security. \n\n\n\n\nDates: Friday\, July 21\, 2023 – 11:30am to 1:00pm
URL:https://sacramento.issa.org/event/issa-sacramento-valley-chapter-meeting-7-21-2023-1130a-1300p/
LOCATION:Capsity\, 3808 Broadway\, Sacramento CA\, Capsity\, 3808 Broadway\, Sacramento\, CA\, United States
CATEGORIES:ISSA Sacramento chapter meetings
ATTACH;FMTTYPE=image/gif:https://sacramento.issa.org/wp-content/uploads/2023/07/AeseclogoMedium.gif
ORGANIZER;CN="Monty B.":MAILTO:calendar@issa-sac.com
END:VEVENT
END:VCALENDAR